Workbook

Sheet 記入例
B1: 令和８年度 宮古工業高等学校 体験入学 【申込用紙】
B4: 以下の項目に情報を入力し、メールにて提出をお願いします。 この様式は本校ホームページからダウンロードできます。 ▲申込期間▲ 令和８年９月１日（火）～９月１１日(金) 提出先メールアドレス：yonahatk@open.ed.jp (担当：與那覇)
C7: 中学校名 | D7: 申込担当者名 | G7: 引率者名
C8: 宮古島中学校 | D8: 宮古 太郎 | G8: 宮古 花子
B10: 通番 | C10: 希望学科 | D10: 電気分野 | E10: 情報分野 | F10: 中学校名 | G10: 生徒氏名 | H10: ふりがな | I10: 備考 | K10: 中学校名 | L10: 学科 | M10: 電気情報科希望者のみ選択してください。 | N10: 電気情報科希望者のみ選択してください。
B11: 1 | C11: 自動車機械システム科 | F11: =IF(テーブル1[[#This Row],[希望学科]]="","",C$8) -> 宮古島中学校 | G11: 宮古島 まもる | H11: みやこじま まもる | I11: ものづくり部見学希望 | K11: 平良中学校 | L11: 自動車機械システム科
B12: 2 | C12: 電気情報科 | D12: 電気工事 | E12: ドローンプログラミング | F12: =IF(テーブル1[[#This Row],[希望学科]]="","",C$8) -> 宮古島中学校 | G12: 宮古島 まるこ | H12: みやこじま まるこ | K12: 北中学校 | L12: 電気情報科 | M12: 電気工事 | N12: LEDライト製作
B13: 3 | C13: 生活情報科 | F13: =IF(テーブル1[[#This Row],[希望学科]]="","",C$8) -> 宮古島中学校 | G13: 宮古島 いたる | H13: みやこじま いたる | I13: 施設見学希望 | K13: 久松中学校 | L13: 生活情報科 | M13: シーケンス制御 | N13: ドローンプログラミング
B14: 4 | F14: =IF(テーブル1[[#This Row],[希望学科]]="","",C$8) | K14: 鏡原中学校
B15: 5 | F15: =IF(テーブル1[[#This Row],[希望学科]]="","",C$8) | K15: 西辺中学校
B16: 6 | F16: =IF(テーブル1[[#This Row],[希望学科]]="","",C$8) | K16: 狩俣中学校
B17: 7 | F17: =IF(テーブル1[[#This Row],[希望学科]]="","",C$8) | K17: 池間中学校
B18: 8 | F18: =IF(テーブル1[[#This Row],[希望学科]]="","",C$8) | K18: 城東中学校
B19: 9 | F19: =IF(テーブル1[[#This Row],[希望学科]]="","",C$8) | K19: 下地中学校
B20: 10 | F20: =IF(テーブル1[[#This Row],[希望学科]]="","",C$8) | K20: 上野中学校
B21: 11 | F21: =IF(テーブル1[[#This Row],[希望学科]]="","",C$8) | K21: 伊良部島中学校
B22: 12 | F22: =IF(テーブル1[[#This Row],[希望学科]]="","",C$8) | K22: 多良間中学校
B23: 13 | F23: =IF(テーブル1[[#This Row],[希望学科]]="","",C$8)
B24: 14 | F24: =IF(テーブル1[[#This Row],[希望学科]]="","",C$8)
B25: 15 | F25: =IF(テーブル1[[#This Row],[希望学科]]="","",C$8)
B26: 16 | F26: =IF(テーブル1[[#This Row],[希望学科]]="","",C$8)
B27: 17 | F27: =IF(テーブル1[[#This Row],[希望学科]]="","",C$8)
B28: 18 | F28: =IF(テーブル1[[#This Row],[希望学科]]="","",C$8)
B29: 19 | F29: =IF(テーブル1[[#This Row],[希望学科]]="","",C$8)
B30: 20 | F30: =IF(テーブル1[[#This Row],[希望学科]]="","",C$8)
B31: 21 | F31: =IF(テーブル1[[#This Row],[希望学科]]="","",C$8)
B32: 22 | F32: =IF(テーブル1[[#This Row],[希望学科]]="","",C$8)
B33: 23 | F33: =IF(テーブル1[[#This Row],[希望学科]]="","",C$8)
B34: 24 | F34: =IF(テーブル1[[#This Row],[希望学科]]="","",C$8)
... B40: 30 | F40: =IF(テーブル1[[#This Row],[希望学科]]="","",C$8)

Sheet 体験入学申込用紙
B1: 令和８年度 宮古工業高等学校 体験入学 【申込用紙】
B4: 以下の項目に情報を入力し、メールにて提出をお願いします。 この様式は本校ホームページからダウンロードできます。 ▲申込期間▲ 令和８年９月１日（火）～９月１１日(金) 提出先メールアドレス：yonahatk@open.ed.jp (担当：與那覇)
C7: 中学校名 | D7: 申込担当者名 | G7: 引率者名
B10: 通番 | C10: 希望学科 | D10: 電気分野 | E10: 情報分野 | F10: 中学校名 | G10: 生徒氏名 | H10: ふりがな | I10: 備考 | K10: 中学校名 | L10: 学科 | M10: 電気情報科希望者のみ選択してください。 | N10: 電気情報科希望者のみ選択してください。
B11: 1 | F11: =IF(テーブル13[[#This Row],[希望学科]]="","",C$8) | K11: 平良中学校 | L11: 自動車機械システム科
B12: 2 | F12: =IF(テーブル13[[#This Row],[希望学科]]="","",C$8) | K12: 北中学校 | L12: 電気情報科 | M12: 電気工事 | N12: LEDライト製作
B13: 3 | F13: =IF(テーブル13[[#This Row],[希望学科]]="","",C$8) | K13: 久松中学校 | L13: 生活情報科 | M13: シーケンス制御 | N13: ドローンプログラミング
B14: 4 | F14: =IF(テーブル13[[#This Row],[希望学科]]="","",C$8) | K14: 鏡原中学校
B15: 5 | F15: =IF(テーブル13[[#This Row],[希望学科]]="","",C$8) | K15: 西辺中学校
B16: 6 | F16: =IF(テーブル13[[#This Row],[希望学科]]="","",C$8) | K16: 狩俣中学校
B17: 7 | F17: =IF(テーブル13[[#This Row],[希望学科]]="","",C$8) | K17: 池間中学校
B18: 8 | F18: =IF(テーブル13[[#This Row],[希望学科]]="","",C$8) | K18: 城東中学校
B19: 9 | F19: =IF(テーブル13[[#This Row],[希望学科]]="","",C$8) | K19: 下地中学校
B20: 10 | F20: =IF(テーブル13[[#This Row],[希望学科]]="","",C$8) | K20: 上野中学校
B21: 11 | F21: =IF(テーブル13[[#This Row],[希望学科]]="","",C$8) | K21: 伊良部島中学校
B22: 12 | F22: =IF(テーブル13[[#This Row],[希望学科]]="","",C$8) | K22: 多良間中学校
B23: 13 | F23: =IF(テーブル13[[#This Row],[希望学科]]="","",C$8)
B24: 14 | F24: =IF(テーブル13[[#This Row],[希望学科]]="","",C$8)
B25: 15 | F25: =IF(テーブル13[[#This Row],[希望学科]]="","",C$8)
B26: 16 | F26: =IF(テーブル13[[#This Row],[希望学科]]="","",C$8)
B27: 17 | F27: =IF(テーブル13[[#This Row],[希望学科]]="","",C$8)
B28: 18 | F28: =IF(テーブル13[[#This Row],[希望学科]]="","",C$8)
B29: 19 | F29: =IF(テーブル13[[#This Row],[希望学科]]="","",C$8)
B30: 20 | F30: =IF(テーブル13[[#This Row],[希望学科]]="","",C$8)
B31: 21 | F31: =IF(テーブル13[[#This Row],[希望学科]]="","",C$8)
B32: 22 | F32: =IF(テーブル13[[#This Row],[希望学科]]="","",C$8)
B33: 23 | F33: =IF(テーブル13[[#This Row],[希望学科]]="","",C$8)
B34: 24 | F34: =IF(テーブル13[[#This Row],[希望学科]]="","",C$8)
... B40: 30 | F40: =IF(テーブル13[[#This Row],[希望学科]]="","",C$8)

Sheet 集計表
A1: リスト | B1: 自動車機械 | C1: 電気情報 | D1: 生活情報 | E1: 計
A2: 平良中学校 | B2: =COUNTIFS(記入例!$F$11:$F$40,"平良中学校",記入例!$C$11:$C$40,"自動車機械システム科") -> 0 | C2: =COUNTIFS(記入例!$F$11:$F$40,"平良中学校",記入例!$C$11:$C$40,"電気情報科") -> 0 | D2: =COUNTIFS(記入例!$F$11:$F$40,"平良中学校",記入例!$C$11:$C$40,"生活情報科") -> 0 | E2: =SUM(B2:D2) -> 0
A3: 北中学校 | B3: =COUNTIFS(記入例!$F$11:$F$40,"北中学校",記入例!$C$11:$C$40,"自動車機械システム科") -> 0 | C3: =COUNTIFS(記入例!$F$11:$F$40,"北中学校",記入例!$C$11:$C$40,"電気情報科") -> 0 | D3: =COUNTIFS(記入例!$F$11:$F$40,"北中学校",記入例!$C$11:$C$40,"生活情報科") -> 0 | E3: =SUM(B3:D3) -> 0
A4: 久松中学校 | B4: =COUNTIFS(記入例!$F$11:$F$40,"久松中学校",記入例!$C$11:$C$40,"自動車機械システム科") -> 0 | C4: =COUNTIFS(記入例!$F$11:$F$40,"久松中学校",記入例!$C$11:$C$40,"電気情報科") -> 0 | D4: =COUNTIFS(記入例!$F$11:$F$40,"久松中学校",記入例!$C$11:$C$40,"生活情報科") -> 0 | E4: =SUM(B4:D4) -> 0
A5: 鏡原中学校 | B5: =COUNTIFS(記入例!$F$11:$F$40,"鏡原中学校",記入例!$C$11:$C$40,"自動車機械システム科") -> 0 | C5: =COUNTIFS(記入例!$F$11:$F$40,"鏡原中学校",記入例!$C$11:$C$40,"電気情報科") -> 0 | D5: =COUNTIFS(記入例!$F$11:$F$40,"鏡原中学校",記入例!$C$11:$C$40,"生活情報科") -> 0 | E5: =SUM(B5:D5) -> 0
A6: 西辺中学校 | B6: =COUNTIFS(記入例!$F$11:$F$40,"西辺中学校",記入例!$C$11:$C$40,"自動車機械システム科") -> 0 | C6: =COUNTIFS(記入例!$F$11:$F$40,"西辺中学校",記入例!$C$11:$C$40,"電気情報科") -> 0 | D6: =COUNTIFS(記入例!$F$11:$F$40,"西辺中学校",記入例!$C$11:$C$40,"生活情報科") -> 0 | E6: =SUM(B6:D6) -> 0
A7: 狩俣中学校 | B7: =COUNTIFS(記入例!$F$11:$F$40,"狩俣中学校",記入例!$C$11:$C$40,"自動車機械システム科") -> 0 | C7: =COUNTIFS(記入例!$F$11:$F$40,"狩俣中学校",記入例!$C$11:$C$40,"電気情報科") -> 0 | D7: =COUNTIFS(記入例!$F$11:$F$40,"狩俣中学校",記入例!$C$11:$C$40,"生活情報科") -> 0 | E7: =SUM(B7:D7) -> 0
A8: 池間中学校 | B8: =COUNTIFS(記入例!$F$11:$F$40,"池間中学校",記入例!$C$11:$C$40,"自動車機械システム科") -> 0 | C8: =COUNTIFS(記入例!$F$11:$F$40,"池間中学校",記入例!$C$11:$C$40,"電気情報科") -> 0 | D8: =COUNTIFS(記入例!$F$11:$F$40,"池間中学校",記入例!$C$11:$C$40,"生活情報科") -> 0 | E8: =SUM(B8:D8) -> 0
A9: 城東中学校 | B9: =COUNTIFS(記入例!$F$11:$F$40,"城東中学校",記入例!$C$11:$C$40,"自動車機械システム科") -> 0 | C9: =COUNTIFS(記入例!$F$11:$F$40,"城東中学校",記入例!$C$11:$C$40,"電気情報科") -> 0 | D9: =COUNTIFS(記入例!$F$11:$F$40,"城東中学校",記入例!$C$11:$C$40,"生活情報科") -> 0 | E9: =SUM(B9:D9) -> 0
A10: 下地中学校 | B10: =COUNTIFS(記入例!$F$11:$F$40,"下地中学校",記入例!$C$11:$C$40,"自動車機械システム科") -> 0 | C10: =COUNTIFS(記入例!$F$11:$F$40,"下地中学校",記入例!$C$11:$C$40,"電気情報科") -> 0 | D10: =COUNTIFS(記入例!$F$11:$F$40,"下地中学校",記入例!$C$11:$C$40,"生活情報科") -> 0 | E10: =SUM(B10:D10) -> 0
A11: 上野中学校 | B11: =COUNTIFS(記入例!$F$11:$F$40,"上野中学校",記入例!$C$11:$C$40,"自動車機械システム科") -> 0 | C11: =COUNTIFS(記入例!$F$11:$F$40,"上野中学校",記入例!$C$11:$C$40,"電気情報科") -> 0 | D11: =COUNTIFS(記入例!$F$11:$F$40,"上野中学校",記入例!$C$11:$C$40,"生活情報科") -> 0 | E11: =SUM(B11:D11) -> 0
A12: 伊良部島中学校 | B12: =COUNTIFS(記入例!$F$11:$F$40,"伊良部島中学校",記入例!$C$11:$C$40,"自動車機械システム科") -> 0 | C12: =COUNTIFS(記入例!$F$11:$F$40,"伊良部島中学校",記入例!$C$11:$C$40,"電気情報科") -> 0 | D12: =COUNTIFS(記入例!$F$11:$F$40,"伊良部島中学校",記入例!$C$11:$C$40,"生活情報科") -> 0 | E12: =SUM(B12:D12) -> 0
A13: 多良間中学校 | B13: =COUNTIFS(記入例!$F$11:$F$40,"多良間中学校",記入例!$C$11:$C$40,"自動車機械システム科") -> 0 | C13: =COUNTIFS(記入例!$F$11:$F$40,"多良間中学校",記入例!$C$11:$C$40,"電気情報科") -> 0 | D13: =COUNTIFS(記入例!$F$11:$F$40,"多良間中学校",記入例!$C$11:$C$40,"生活情報科") -> 0 | E13: =SUM(B13:D13) -> 0
B14: =SUM(B2:B13) -> 0 | C14: =SUM(C2:C13) -> 0 | D14: =SUM(D2:D13) -> 0 | E14: =SUM(E2:E13) -> 0

Sheet 学科・コース一覧
B2: 学科
B3: 自動車機械システム科
B5: 電気情報科
B7: 生活情報科

Sheet 中学校名
A1: No. | B1: 中学校名
A2: 1 | B2: 平良中学校
A3: 2 | B3: 北中学校
A4: 3 | B4: 久松中学校
A5: 4 | B5: 鏡原中学校
A6: 5 | B6: 西辺中学校
A7: 6 | B7: 狩俣中学校
A8: 7 | B8: 池間中学校
A9: 8 | B9: 城東中学校
A10: 9 | B10: 下地中学校
A11: 10 | B11: 上野中学校
A12: 11 | B12: 伊良部島中学校
A13: 12 | B13: 多良間中学校
